BEGIN:VCALENDAR
VERSION:2.0
PRODID:-//Knabe Verlagsgruppe - ECPv6.15.20//NONSGML v1.0//EN
CALSCALE:GREGORIAN
METHOD:PUBLISH
X-ORIGINAL-URL:https://kinderbuch24.de
X-WR-CALDESC:Veranstaltungen für Knabe Verlagsgruppe
REFRESH-INTERVAL;VALUE=DURATION:PT1H
X-Robots-Tag:noindex
X-PUBLISHED-TTL:PT1H
BEGIN:VTIMEZONE
TZID:Europe/Berlin
BEGIN:DAYLIGHT
TZOFFSETFROM:+0100
TZOFFSETTO:+0200
TZNAME:CEST
DTSTART:20240331T010000
END:DAYLIGHT
BEGIN:STANDARD
TZOFFSETFROM:+0200
TZOFFSETTO:+0100
TZNAME:CET
DTSTART:20241027T010000
END:STANDARD
BEGIN:DAYLIGHT
TZOFFSETFROM:+0100
TZOFFSETTO:+0200
TZNAME:CEST
DTSTART:20250330T010000
END:DAYLIGHT
BEGIN:STANDARD
TZOFFSETFROM:+0200
TZOFFSETTO:+0100
TZNAME:CET
DTSTART:20251026T010000
END:STANDARD
BEGIN:DAYLIGHT
TZOFFSETFROM:+0100
TZOFFSETTO:+0200
TZNAME:CEST
DTSTART:20260329T010000
END:DAYLIGHT
BEGIN:STANDARD
TZOFFSETFROM:+0200
TZOFFSETTO:+0100
TZNAME:CET
DTSTART:20261025T010000
END:STANDARD
END:VTIMEZONE
BEGIN:VEVENT
DTSTART;VALUE=DATE:20250823
DTEND;VALUE=DATE:20250824
DTSTAMP:20260421T163430
CREATED:20251029T132218Z
LAST-MODIFIED:20251029T132219Z
UID:7512-1755907200-1755993599@kinderbuch24.de
SUMMARY:Entdeckerfest Ehringsdorf
DESCRIPTION:Auf zum Entdeckerfest! Am 23.08.2025 feiern wir 100+ Jahre Neandertalerfund in Ehringsdorf! ✨ \nZwischen Feuermachen\, Steinzeitschenke und vielen Aktionen zum Mitmachen und Entdecken sind wir ebenfalls Start. Ihr findet uns an unserem Piaggio\, der wie immer gut gefüllt mit vielen tollen Büchern ist. Dazu gibt es zwei Lesungen: Heike Winter liest aus unserem Buch »Der Schatzgräber von Ehringsdorf«.\nAlso Ohren gespitzt! \nWir freuen uns auf euren Besuch! \n🦴 100+ Jahre Neandertaler-Fund in Ehringsdorf\n Areal rund um das Archäologische Freigelände im Hainweg\n  23.08.2025\, 12–18 Uhr
URL:https://kinderbuch24.de/event/entdeckerfest-ehringsdorf/
CATEGORIES:Lesungen,Märkte
ATTACH;FMTTYPE=image/png:https://kinderbuch24.de/wp-content/uploads/2025/10/Entdeckerfest-Ehringsdorf_web.png
END:VEVENT
END:VCALENDAR